

BEGIN:VCALENDAR
VERSION:2.0
PRODID:-//Living Waters School - ECPv6.15.20//NONSGML v1.0//EN
CALSCALE:GREGORIAN
METHOD:PUBLISH
X-WR-CALNAME:Living Waters School
X-ORIGINAL-URL:https://livingwaters.education
X-WR-CALDESC:Events for Living Waters School
REFRESH-INTERVAL;VALUE=DURATION:PT1H
X-Robots-Tag:noindex
X-PUBLISHED-TTL:PT1H
BEGIN:VTIMEZONE
TZID:UTC
BEGIN:STANDARD
TZOFFSETFROM:+0000
TZOFFSETTO:+0000
TZNAME:UTC
DTSTART:20180101T000000
END:STANDARD
END:VTIMEZONE
BEGIN:VEVENT
DTSTART;TZID=UTC:20190615T073000
DTEND;TZID=UTC:20190615T120000
DTSTAMP:20260424T212715
CREATED:20190613T210956Z
LAST-MODIFIED:20190613T210956Z
UID:639-1560583800-1560600000@livingwaters.education
SUMMARY:LIVING WATERS PRIMARY SCHOOL CONSULTATION DAY
DESCRIPTION:LIVING WATERS PRIMARY SCHOOL CONSULTATION DAY
URL:https://livingwaters.education/event/living-waters-primary-school-consultation-day/
LOCATION:LIVING WATERS SCHOOL\, Swaziland
CATEGORIES:school events
END:VEVENT
END:VCALENDAR