

BEGIN:VCALENDAR
VERSION:2.0
PRODID:-//Living Waters School - ECPv6.15.20//NONSGML v1.0//EN
CALSCALE:GREGORIAN
METHOD:PUBLISH
X-WR-CALNAME:Living Waters School
X-ORIGINAL-URL:https://livingwaters.education
X-WR-CALDESC:Events for Living Waters School
REFRESH-INTERVAL;VALUE=DURATION:PT1H
X-Robots-Tag:noindex
X-PUBLISHED-TTL:PT1H
BEGIN:VTIMEZONE
TZID:UTC
BEGIN:STANDARD
TZOFFSETFROM:+0000
TZOFFSETTO:+0000
TZNAME:UTC
DTSTART:20180101T000000
END:STANDARD
END:VTIMEZONE
BEGIN:VEVENT
DTSTART;TZID=UTC:20190803T103000
DTEND;TZID=UTC:20190803T130000
DTSTAMP:20260425T001839
CREATED:20190613T205948Z
LAST-MODIFIED:20190623T045652Z
UID:633-1564828200-1564837200@livingwaters.education
SUMMARY:LWPS 2019 Music & Arts Festival
DESCRIPTION:Living Waters Primary School will be having an EXITING MUSIC & ARTS FESTIVAL ON THIS DATE (3rd AUGUST 2019) \nCOME ONE COME ALL \nADULTS: E30\nCHILDREN: E10\nPERFORMERS: FREE
URL:https://livingwaters.education/event/lwps-2019-music-arts-festival/
LOCATION:Living Waters School/Church\, Swaziland
CATEGORIES:school events
END:VEVENT
BEGIN:VEVENT
DTSTART;TZID=UTC:20190809T000000
DTEND;TZID=UTC:20190910T235900
DTSTAMP:20260425T001839
CREATED:20190721T161521Z
LAST-MODIFIED:20190721T163906Z
UID:1147-1565308800-1568159940@livingwaters.education
SUMMARY:2019 TERM 2/TERM 3 SCHOOL DATES (CLOSING AND OPENING)
DESCRIPTION:OUR SCHOOL WILL CLOSE ON FRIDAY 9th OF AUGUST 2019 (END OF TERM 2) AND WE WILL RESUME FOR TERM 3 ON TUESDAY  10th OF SEPTEMBER 2019
URL:https://livingwaters.education/event/2019-end-of-term-2-school-closes/
CATEGORIES:school events
END:VEVENT
END:VCALENDAR