

BEGIN:VCALENDAR
VERSION:2.0
PRODID:-//Living Waters School - ECPv6.15.20//NONSGML v1.0//EN
CALSCALE:GREGORIAN
METHOD:PUBLISH
X-WR-CALNAME:Living Waters School
X-ORIGINAL-URL:https://livingwaters.education
X-WR-CALDESC:Events for Living Waters School
REFRESH-INTERVAL;VALUE=DURATION:PT1H
X-Robots-Tag:noindex
X-PUBLISHED-TTL:PT1H
BEGIN:VTIMEZONE
TZID:UTC
BEGIN:STANDARD
TZOFFSETFROM:+0000
TZOFFSETTO:+0000
TZNAME:UTC
DTSTART:20180101T000000
END:STANDARD
END:VTIMEZONE
BEGIN:VEVENT
DTSTART;TZID=UTC:20190628T150000
DTEND;TZID=UTC:20190707T170000
DTSTAMP:20260424T224642
CREATED:20190624T154142Z
LAST-MODIFIED:20190624T154521Z
UID:959-1561734000-1562518800@livingwaters.education
SUMMARY:LWS TERM 2 MID-TERM BREAK 2019
DESCRIPTION:Friday 28th June is Our Last Day at School and School Resumes on the 8th of July 2019
URL:https://livingwaters.education/event/lws-term-2-mid-term-break-2019/
CATEGORIES:school events
END:VEVENT
END:VCALENDAR