

BEGIN:VCALENDAR
VERSION:2.0
PRODID:-//Living Waters School - ECPv6.15.20//NONSGML v1.0//EN
CALSCALE:GREGORIAN
METHOD:PUBLISH
X-ORIGINAL-URL:https://livingwaters.education
X-WR-CALDESC:Events for Living Waters School
REFRESH-INTERVAL;VALUE=DURATION:PT1H
X-Robots-Tag:noindex
X-PUBLISHED-TTL:PT1H
BEGIN:VTIMEZONE
TZID:UTC
BEGIN:STANDARD
TZOFFSETFROM:+0000
TZOFFSETTO:+0000
TZNAME:UTC
DTSTART:20180101T000000
END:STANDARD
END:VTIMEZONE
BEGIN:VEVENT
DTSTART;TZID=UTC:20190326T080000
DTEND;TZID=UTC:20190326T170000
DTSTAMP:20260424T224952
CREATED:20190326T135200Z
LAST-MODIFIED:20190326T135209Z
UID:541-1553587200-1553619600@livingwaters.education
SUMMARY:LWS 2019 Term 1 School Dates
DESCRIPTION:Living Waters school will close on the 12th of April 2019 and Re-Open on the 7th of May 2019
URL:https://livingwaters.education/event/lws-2019-term-1-school-dates/
CATEGORIES:school events
END:VEVENT
END:VCALENDAR